BEGIN:VCALENDAR
VERSION:1.0
BEGIN:VEVENT
SUMMARY:Membership Drive Luncheon
LOCATION:Ballroom A  
DESCRIPTION;ENCODING=QUOTED-PRINTABLE:Join=20us=20to=20celebrate=20you=20and=20all=20that=20you=20do=20for=20ou=
r=20organization.=0D=0ALobster=20mac'n=20cheese=20will=20be=20the=20main=20=
course=20along=20with=20other=20heavy=20foods=20designed=20to=20make=20yo=
u=20sleepy=20after=20lunch=20as=20usual.=20?=0D=0A=0D=0AFruit=20&=20Nut=20=
Conference=208/29/2021=20-=208/31/2021=0D=0Ahttp://www.expocadweb.com/dem=
olive/CC/forms/attendee/index.aspx?content=3Dwelcome
DTSTART:20210829T000000
DTEND:20210829T130000
END:VEVENT
END:VCALENDAR
