BEGIN:VCALENDAR
VERSION:1.0
BEGIN:VEVENT
SUMMARY:Modern Harvesting Robots
LOCATION:RM 206 
DESCRIPTION;ENCODING=QUOTED-PRINTABLE:See=20the=20latest=20in=20harvesting=20robots=20tackle=20the=20most=20dif=
ficult=20crops,=20like=20apples,=20grapes=20and=20peaches.=20See=20how=20=
you=20can=20reduce=20your=20labor=20cost=20and=20improve=20profits.=0D=0A=
=0D=0AFruit=20&=20Nut=20Conference=208/29/2021=20-=208/31/2021=0D=0Ahttp:=
//www.expocadweb.com/demolive/CC/forms/attendee/index.aspx?content=3Dwelc=
ome
DTSTART:20210829T080000
DTEND:20210829T090000
END:VEVENT
END:VCALENDAR
