BEGIN:VCALENDAR
VERSION:1.0
BEGIN:VEVENT
SUMMARY:Restaurants, The New Market
LOCATION:RM 202 
DESCRIPTION;ENCODING=QUOTED-PRINTABLE:Learn=20how=20to=20market=20your=20product=20to=20the=20worlds=20finest=20=
restaurants=20with=20Allen=20James,=20author=20of=20the=20best=20selling=20=
guide=20book=20'New=20York's=20Fine=20Dining'.=0D=0A=0D=0AFruit=20&=20Nut=
=20Conference=208/29/2021=20-=208/31/2021=0D=0Ahttp://www.expocadweb.com/=
demolive/CC/forms/attendee/index.aspx?content=3Dwelcome
DTSTART:20210829T140000
DTEND:20210829T150000
END:VEVENT
END:VCALENDAR
