BEGIN:VCALENDAR
VERSION:1.0
BEGIN:VEVENT
SUMMARY:Green Greenhouses
LOCATION:RM 205 
DESCRIPTION;ENCODING=QUOTED-PRINTABLE:The=20latest=20in=20greenhouse=20technology=20allows=20you=20to=20be=20ef=
ficient,=20environmentally=20friendly=20and=20increase=20you=20bottom=20l=
ine=20all=20at=20the=20same=20time.=0D=0A=0D=0AFruit=20&=20Nut=20Conferen=
ce=208/29/2021=20-=208/31/2021=0D=0Ahttp://www.expocadweb.com/demolive/CC=
/forms/attendee/index.aspx?content=3Dwelcome
DTSTART:20210829T140000
DTEND:20210829T170000
END:VEVENT
END:VCALENDAR
