BEGIN:VCALENDAR
VERSION:1.0
BEGIN:VEVENT
SUMMARY:Modern Farming
LOCATION:RM 202 
DESCRIPTION;ENCODING=QUOTED-PRINTABLE:Check=20out=20the=20latest=20farming=20technology=20available=20today.=20=
This=20program=20will=20save=20you=20more=20money=20that=20you=20will=20k=
now=20what=20to=20do=20with=20it.=0D=0A=0D=0AFruit=20&=20Nut=20Conference=
=208/29/2021=20-=208/31/2021=0D=0Ahttp://www.expocadweb.com/demolive/CC/f=
orms/attendee/index.aspx?content=3Dwelcome
DTSTART:20210829T100000
DTEND:20210829T110000
END:VEVENT
END:VCALENDAR
