BEGIN:VCALENDAR
VERSION:1.0
BEGIN:VEVENT
SUMMARY:Buying the Best
LOCATION:RM 203 
DESCRIPTION;ENCODING=QUOTED-PRINTABLE:Get=20the=20best=20product=20to=20you=20customers=20by=20getting=20the=20=
best=20product=20for=20your=20suppliers.=0D=0A=0D=0AFruit=20&=20Nut=20Con=
ference=208/29/2021=20-=208/31/2021=0D=0Ahttp://www.expocadweb.com/demoli=
ve/CC/forms/attendee/index.aspx?content=3Dwelcome
DTSTART:20210829T160000
DTEND:20210829T170000
END:VEVENT
END:VCALENDAR
