BEGIN:VCALENDAR
VERSION:1.0
BEGIN:VEVENT
SUMMARY:Increasing Yields With Genetics
LOCATION:RM 202 
DESCRIPTION;ENCODING=QUOTED-PRINTABLE:The=20current=20state=20of=20the=20art=20in=20genetic=20engineering=20of=20=
fruit=20trees=20will=20be=20examined.=20If=20you=20haven't=20been=20keepi=
ng=20up=20on=20this=20important=20field=20don't=20miss=20this=20rare=20op=
portunity=20to=20discuss=20this=20issue=20with=20industry=20leaders.=0D=0A=
=0D=0AFruit=20&=20Nut=20Conference=208/29/2021=20-=208/31/2021=0D=0Ahttp:=
//www.expocadweb.com/demolive/CC/forms/attendee/index.aspx?content=3Dwelc=
ome
DTSTART:20210829T080000
DTEND:20210829T110000
END:VEVENT
END:VCALENDAR
