BEGIN:VCALENDAR
VERSION:1.0
BEGIN:VEVENT
SUMMARY:Reducing Spoilage
LOCATION:RM 202 
DESCRIPTION;ENCODING=QUOTED-PRINTABLE:Learn=20how=20to=20get=20more=20of=20your=20crop=20from=20harvest=20to=20=
market=20with=20these=20innovative=20ideas=20in=20genetic=20engineering.=0D=
=0A=0D=0AFruit=20&=20Nut=20Conference=208/29/2021=20-=208/31/2021=0D=0Aht=
tp://www.expocadweb.com/demolive/CC/forms/attendee/index.aspx?content=3Dw=
elcome
DTSTART:20210829T130000
DTEND:20210829T140000
END:VEVENT
END:VCALENDAR
