BEGIN:VCALENDAR
VERSION:1.0
BEGIN:VEVENT
SUMMARY:Travel Europe
LOCATION:RM 202 
DESCRIPTION;ENCODING=QUOTED-PRINTABLE:Travel=20Europe=20with=20these=20great=20travel=20movies=20and=20stories.=
=20Eat=20the=20best=20food=20you=20every=20had=20and=20bring=20home=20gre=
at=20memories.=0D=0A=0D=0AFruit=20&=20Nut=20Conference=208/29/2021=20-=20=
8/31/2021=0D=0Ahttp://www.expocadweb.com/demolive/CC/forms/attendee/index=
.aspx?content=3Dwelcome
DTSTART:20210829T150000
DTEND:20210829T160000
END:VEVENT
END:VCALENDAR
