BEGIN:VCALENDAR
VERSION:1.0
BEGIN:VEVENT
SUMMARY:New Fruits For a New Age
LOCATION:RM 206 
DESCRIPTION;ENCODING=QUOTED-PRINTABLE:Tired=20of=20the=20same=20old=20fruits?=20Try=20these=20new=20varieties=20=
fresh=20from=20the=20lab.=20These=20are=20sure=20to=20catch=20consumers=20=
eyes.=0D=0A=0D=0AFruit=20&=20Nut=20Conference=208/29/2021=20-=208/31/2021=
=0D=0Ahttp://www.expocadweb.com/demolive/CC/forms/attendee/index.aspx?con=
tent=3Dwelcome
DTSTART:20210829T160000
DTEND:20210829T170000
END:VEVENT
END:VCALENDAR
