BEGIN:VCALENDAR
VERSION:1.0
BEGIN:VEVENT
SUMMARY:Fruit Trees for the New Millennium
LOCATION:RM 202 
DESCRIPTION;ENCODING=QUOTED-PRINTABLE:See=20how=20automated=20fruit=20harvesters=20are=20change=20the=20type=20=
of=20fruit=20trees=20we=20grow.=20The=20genetically=20engineered=20trees=20=
increase=20harvesting=20efficiency=20and=20reduce=20cost.=0D=0A=0D=0AFrui=
t=20&=20Nut=20Conference=208/29/2021=20-=208/31/2021=0D=0Ahttp://www.expo=
cadweb.com/demolive/CC/forms/attendee/index.aspx?content=3Dwelcome
DTSTART:20210830T170000
DTEND:20210830T180000
END:VEVENT
END:VCALENDAR
