BEGIN:VCALENDAR
VERSION:1.0
BEGIN:VEVENT
SUMMARY:Fruit Treatments for Taste
LOCATION:RM 202 
DESCRIPTION;ENCODING=QUOTED-PRINTABLE:The=20newest=20fruit=20treatment=20can=20improve=20the=20taste=20and=20lo=
ngevity=20of=20your=20produce.=20Stop=20by=20and=20see=20what=20science=20=
can=20do=20for=20you.=0D=0A=0D=0AFruit=20&=20Nut=20Conference=208/29/2021=
=20-=208/31/2021=0D=0Ahttp://www.expocadweb.com/demolive/CC/forms/attende=
e/index.aspx?content=3Dwelcome
DTSTART:20210829T090000
DTEND:20210829T100000
END:VEVENT
END:VCALENDAR
