BEGIN:VCALENDAR
VERSION:1.0
BEGIN:VEVENT
SUMMARY:Brain Wave Marketing
LOCATION:RM 202 
DESCRIPTION;ENCODING=QUOTED-PRINTABLE:Step=20into=20the=20future=20with=20this=20interesting=20discussion=20on=20=
brain=20wave=20monitoring=20to=20develop=20effective=20marketing=20campai=
gns.=20See=20what=20gets=20your=20customers=20attention=20even=20if=20the=
y=20don't.=20Learn=20how=20to=20developed=20customer=20response=20to=20yo=
ur=20latest=20marketing=20project.=0D=0A=0D=0AFruit=20&=20Nut=20Conferenc=
e=208/29/2021=20-=208/31/2021=0D=0Ahttp://www.expocadweb.com/demolive/CC/=
forms/attendee/index.aspx?content=3Dwelcome
DTSTART:20210830T100000
DTEND:20210830T110000
END:VEVENT
END:VCALENDAR
