BEGIN:VCALENDAR
VERSION:1.0
BEGIN:VEVENT
SUMMARY:Harvest Management
LOCATION:RM 202 
DESCRIPTION;ENCODING=QUOTED-PRINTABLE:New=20software=20lets=20you=20manage=20all=20aspects=20of=20your=20harves=
t=20in=20advance=20so=20there=20are=20no=20surprises.=20See=20what=20comp=
uters=20can=20do=20for=20your=20operation.=0D=0A=0D=0AFruit=20&=20Nut=20C=
onference=208/29/2021=20-=208/31/2021=0D=0Ahttp://www.expocadweb.com/demo=
live/CC/forms/attendee/index.aspx?content=3Dwelcome
DTSTART:20210830T170000
DTEND:20210830T180000
END:VEVENT
END:VCALENDAR
