BEGIN:VCALENDAR
VERSION:1.0
BEGIN:VEVENT
SUMMARY:In Living Color
LOCATION:Sir Timpleton's Apartment 
DESCRIPTION;ENCODING=QUOTED-PRINTABLE:In=20Living=20Color=0D=0A=0D=0AFruit=20&=20Nut=20Conference=208/29/2021=20=
-=208/31/2021=0D=0Ahttp://www.expocadweb.com/demolive/CC/forms/attendee/i=
ndex.aspx?content=3Dwelcome
DTSTART:20210830T060000
DTEND:20210830T230000
END:VEVENT
END:VCALENDAR
