BEGIN:VCALENDAR
VERSION:1.0
BEGIN:VEVENT
SUMMARY:Don't be a Georgia Peach Fuzz
LOCATION:RM 202 
DESCRIPTION;ENCODING=QUOTED-PRINTABLE:Don't=20be=20a=20Georgia=20Peach=20Fuzz=0D=0A=0D=0AFruit=20&=20Nut=20Conf=
erence=208/29/2021=20-=208/31/2021=0D=0Ahttp://www.expocadweb.com/demoliv=
e/CC/forms/attendee/index.aspx?content=3Dwelcome
DTSTART:20210829T060000
DTEND:20210829T230000
END:VEVENT
END:VCALENDAR
