BEGIN:VCALENDAR
VERSION:1.0
BEGIN:VEVENT
SUMMARY:Go Green!
LOCATION:RM 202 
DESCRIPTION;ENCODING=QUOTED-PRINTABLE:Go=20Green!=0D=0A=0D=0AFruit=20&=20Nut=20Conference=208/29/2021=20-=208/3=
1/2021=0D=0Ahttp://www.expocadweb.com/demolive/CC/forms/attendee/index.as=
px?content=3Dwelcome
DTSTART:20210830T060000
DTEND:20210830T230000
END:VEVENT
END:VCALENDAR
