BEGIN:VCALENDAR
VERSION:1.0
BEGIN:VEVENT
SUMMARY:Granola Making 101
LOCATION:The Kitchen 
DESCRIPTION;ENCODING=QUOTED-PRINTABLE:Granola=20Making=20101=0D=0A=0D=0AFruit=20&=20Nut=20Conference=208/29/202=
1=20-=208/31/2021=0D=0Ahttp://www.expocadweb.com/demolive/CC/forms/attend=
ee/index.aspx?content=3Dwelcome
DTSTART:20210830T103000
DTEND:20210830T113000
END:VEVENT
END:VCALENDAR
