BEGIN:VCALENDAR
VERSION:1.0
BEGIN:VEVENT
SUMMARY:Protect your fruits and nuts!
LOCATION:RM 202 
DESCRIPTION;ENCODING=QUOTED-PRINTABLE:=0D=0A=0D=0AFruit=20&=20Nut=20Conference=208/29/2021=20-=208/31/2021=0D=0A=
http://www.expocadweb.com/demolive/CC/forms/attendee/index.aspx?content=3D=
welcome
DTSTART:20210830T160000
DTEND:20210830T170000
END:VEVENT
END:VCALENDAR
