BEGIN:VCALENDAR
VERSION:1.0
BEGIN:VEVENT
SUMMARY:Automatic Weight Sorting
LOCATION:RM 204 
DESCRIPTION;ENCODING=QUOTED-PRINTABLE:See=20the=20latest=20in=20sorting=20and=20packaging=20automation.=20These=
=20machines=20have=20saved=20millions=20of=20dollars=20in=20the=20last=20=
few=20years.=20Don't=20miss=20out=20on=20this=20opportunity.=0D=0A=0D=0AF=
ruit=20&=20Nut=20Conference=208/29/2021=20-=208/31/2021=0D=0Ahttp://www.e=
xpocadweb.com/demolive/CC/forms/attendee/index.aspx?content=3Dwelcome
DTSTART:20210829T130000
DTEND:20210829T150000
END:VEVENT
END:VCALENDAR
