BEGIN:VCALENDAR
VERSION:1.0
BEGIN:VEVENT
SUMMARY:Great Looking Fruit
LOCATION:RM 202 
DESCRIPTION;ENCODING=QUOTED-PRINTABLE:Learn=20how=20modern=20fruit=20finishes=20can=20improve=20your=20sales.=20=
These=20finishes=20aren?t=20your=20fathers=20bee's=20wax!=0D=0A=0D=0AFrui=
t=20&=20Nut=20Conference=208/29/2021=20-=208/31/2021=0D=0Ahttp://www.expo=
cadweb.com/demolive/CC/forms/attendee/index.aspx?content=3Dwelcome
DTSTART:20210829T150000
DTEND:20210829T160000
END:VEVENT
END:VCALENDAR
