BEGIN:VCALENDAR
VERSION:1.0
BEGIN:VEVENT
SUMMARY:Sales Explosion!
LOCATION:RM 204 
DESCRIPTION;ENCODING=QUOTED-PRINTABLE:Learn=20how=20Susan=20Baton=20increased=20sales=20at=20Brewster=20Red=20w=
ith=20a=20hip=20marketing=20campaign=20aimed=20at=20the=20youth=20culture=
.=0D=0A=0D=0AFruit=20&=20Nut=20Conference=208/29/2021=20-=208/31/2021=0D=0A=
http://www.expocadweb.com/demolive/CC/forms/attendee/index.aspx?content=3D=
welcome
DTSTART:20210829T090000
DTEND:20210829T100000
END:VEVENT
END:VCALENDAR
