BEGIN:VCALENDAR
VERSION:1.0
BEGIN:VEVENT
SUMMARY:Fruit Pastry Magic
LOCATION:RM 202 
DESCRIPTION;ENCODING=QUOTED-PRINTABLE:Chef=20Bill=20prepares=20gourmet=20pastries=20from=20around=20the=20world=
=20using=20the=20a=20multitude=20of=20fruits=20and=20nuts.=20Learn=20how=20=
to=20please=20your=20customers=20and=20move=20your=20product=20at=20the=20=
same=20time.=20Samples=20of=20all=20items=20prepared=20will=20be=20availa=
ble=20to=20all=20who=20attend.=0D=0A=0D=0AFruit=20&=20Nut=20Conference=20=
8/29/2021=20-=208/31/2021=0D=0Ahttp://www.expocadweb.com/demolive/CC/form=
s/attendee/index.aspx?content=3Dwelcome
DTSTART:20210829T090000
DTEND:20210829T100000
END:VEVENT
END:VCALENDAR
