BEGIN:VCALENDAR
VERSION:1.0
BEGIN:VEVENT
SUMMARY:Cooking for Better Health
LOCATION:RM 206 
DESCRIPTION;ENCODING=QUOTED-PRINTABLE:Mike=20Farwit=20cooks=20up=20a=20storm=20with=20great=20cooking=20ideas=20=
to=20keep=20you=20fit=20and=20trim=20and=20enjoying=20every=20meal.=0D=0A=
=0D=0AFruit=20&=20Nut=20Conference=208/29/2021=20-=208/31/2021=0D=0Ahttp:=
//www.expocadweb.com/demolive/CC/forms/attendee/index.aspx?content=3Dwelc=
ome
DTSTART:20210829T080000
DTEND:20210829T090000
END:VEVENT
END:VCALENDAR
