BEGIN:VCALENDAR
VERSION:1.0
BEGIN:VEVENT
SUMMARY:Going Nuts!
LOCATION:RM 202 
DESCRIPTION;ENCODING=QUOTED-PRINTABLE:Chis=20Huffman=20spins=20fascinating=20stories=20about=20his=20travels=20=
around=20the=20world=20in=20search=20of=20new=20markets.=0D=0A=0D=0AFruit=
=20&=20Nut=20Conference=208/29/2021=20-=208/31/2021=0D=0Ahttp://www.expoc=
adweb.com/demolive/CC/forms/attendee/index.aspx?content=3Dwelcome
DTSTART:20210829T100000
DTEND:20210829T110000
END:VEVENT
END:VCALENDAR
