BEGIN:VCALENDAR
VERSION:1.0
BEGIN:VEVENT
SUMMARY:Cooking on a Budget.
LOCATION:RM 202 
DESCRIPTION;ENCODING=QUOTED-PRINTABLE:The=20best=20meals=20for=20less.=20That's=20Howards=20method.=20Learn=20h=
ow=20to=20please=20your=20family=20and=20not=20break=20the=20bank=20with=20=
the=20host=20of=20the=20popular=20Cooking=20With=20Howard=20show=20on=20P=
BS.=0D=0A=0D=0AFruit=20&=20Nut=20Conference=208/29/2021=20-=208/31/2021=0D=
=0Ahttp://www.expocadweb.com/demolive/CC/forms/attendee/index.aspx?conten=
t=3Dwelcome
DTSTART:20210829T130000
DTEND:20210829T140000
END:VEVENT
END:VCALENDAR
